BEGIN:VCALENDAR
VERSION:2.0
PRODID:SchoolNow
CALSCALE:GREGORIAN
BEGIN:VEVENT
UID:a63b0b50-6a25-11eb-95f5-0ab11a3d4049
DTSTAMP:20210223T145434Z
SUMMARY:Beach Party (1:00-2:30)
URL;VALUE=URI:https://www.hunterdonprep.org/calendar/2535759/beach-party-1-
 00-2-30
DTSTART:20210305T180000Z
DTEND:20210305T193000Z
END:VEVENT
END:VCALENDAR
