BEGIN:VCALENDAR
VERSION:2.0
PRODID:SchoolNow
CALSCALE:GREGORIAN
BEGIN:VEVENT
UID:b288df9a-60b1-11eb-bb31-0a11fe6bed09
DTSTAMP:20210127T150948Z
SUMMARY:After-school club (relaxation jars)
URL;VALUE=URI:https://www.hunterdonprep.org/calendar/2531233/after-school-c
 lub-relaxation-jars
DTSTART:20210218T193000Z
DTEND:20210218T213000Z
END:VEVENT
END:VCALENDAR
