BEGIN:VCALENDAR
VERSION:2.0
PRODID:SchoolNow
CALSCALE:GREGORIAN
BEGIN:VEVENT
UID:9bcda114-60b1-11eb-b59b-0a11fe6bed09
DTSTAMP:20210127T151009Z
SUMMARY:After-school club (relaxation jars)
URL;VALUE=URI:https://www.hunterdonprep.org/calendar/2531232/after-school-c
 lub-relaxation-jars
DTSTART:20210216T193000Z
DTEND:20210216T213000Z
END:VEVENT
END:VCALENDAR
