BEGIN:VCALENDAR
VERSION:2.0
PRODID:SchoolNow
CALSCALE:GREGORIAN
BEGIN:VEVENT
UID:08c18506-5ffe-11eb-96fc-0e29c356e075
DTSTAMP:20210126T174343Z
SUMMARY:Driver's Ed permit test
URL;VALUE=URI:https://www.hunterdonprep.org/calendar/2530988/drivers-ed-per
 mit-test
DTSTART:20210209T180000Z
DTEND:20210209T190000Z
END:VEVENT
END:VCALENDAR
