BEGIN:VCALENDAR
VERSION:2.0
PRODID:SchoolNow
CALSCALE:GREGORIAN
BEGIN:VEVENT
UID:f966b360-5ffd-11eb-b1ba-0e29c356e075
DTSTAMP:20210126T174318Z
SUMMARY:Driver's Ed permit test
URL;VALUE=URI:https://www.hunterdonprep.org/calendar/2530987/drivers-ed-per
 mit-test
DTSTART:20210204T180000Z
DTEND:20210204T190000Z
END:VEVENT
END:VCALENDAR
