BEGIN:VCALENDAR
VERSION:2.0
PRODID:SchoolNow
CALSCALE:GREGORIAN
BEGIN:VEVENT
UID:6a10806a-5ffd-11eb-b147-0e29c356e075
DTSTAMP:20210126T173917Z
SUMMARY:Virtual Art Opening - Hunterdon Art Museum
URL;VALUE=URI:https://www.hunterdonprep.org/calendar/2530986/virtual-art-op
 ening-hunterdon-art-museum
DTSTART;VALUE=DATE:20210223
DTEND;VALUE=DATE:20210224
END:VEVENT
END:VCALENDAR
