BEGIN:VCALENDAR
VERSION:2.0
PRODID:SchoolNow
CALSCALE:GREGORIAN
BEGIN:VEVENT
UID:06e1c8f0-5ffd-11eb-b06e-0e29c356e075
DTSTAMP:20210126T173631Z
SUMMARY:After-school club (ping pong and games)
URL;VALUE=URI:https://www.hunterdonprep.org/calendar/2530985/after-school-c
 lub-ping-pong-and-games
DTSTART:20210225T193000Z
DTEND:20210225T213000Z
END:VEVENT
END:VCALENDAR
