BEGIN:VCALENDAR
VERSION:2.0
PRODID:SchoolNow
CALSCALE:GREGORIAN
BEGIN:VEVENT
UID:f4b7af46-5ffc-11eb-8183-0e29c356e075
DTSTAMP:20210126T173600Z
SUMMARY:After-school club (ping pong and games)
URL;VALUE=URI:https://www.hunterdonprep.org/calendar/2530984/after-school-c
 lub-ping-pong-and-games
DTSTART:20210223T193000Z
DTEND:20210223T213000Z
END:VEVENT
END:VCALENDAR
