BEGIN:VCALENDAR
VERSION:2.0
PRODID:SchoolNow
CALSCALE:GREGORIAN
BEGIN:VEVENT
UID:d907e68a-5ffc-11eb-8e64-0e29c356e075
DTSTAMP:20210128T142914Z
SUMMARY:After-school club (Valentine's Day craft)
URL;VALUE=URI:https://www.hunterdonprep.org/calendar/2530983/after-school-c
 lub-valentine
DTSTART:20210211T193000Z
DTEND:20210211T213000Z
END:VEVENT
END:VCALENDAR
