BEGIN:VCALENDAR
VERSION:2.0
PRODID:SchoolNow
CALSCALE:GREGORIAN
BEGIN:VEVENT
UID:c5bf7c0a-5ffc-11eb-9142-0e29c356e075
DTSTAMP:20210128T142844Z
SUMMARY:After-school club (Valentine's Day craft)
URL;VALUE=URI:https://www.hunterdonprep.org/calendar/2530982/after-school-c
 lub-valentine
DTSTART:20210209T193000Z
DTEND:20210209T213000Z
END:VEVENT
END:VCALENDAR
