BEGIN:VCALENDAR
VERSION:2.0
PRODID:SchoolNow
CALSCALE:GREGORIAN
BEGIN:VEVENT
UID:a4b09300-5ffc-11eb-82d2-0e29c356e075
DTSTAMP:20210128T142817Z
SUMMARY:After-school club (Groundhog Day/movie/trivia/make-your-own pizza)
URL;VALUE=URI:https://www.hunterdonprep.org/calendar/2530981/after-school-c
 lub-groundhog-day
DTSTART:20210202T193000Z
DTEND:20210202T213000Z
END:VEVENT
END:VCALENDAR
