BEGIN:VCALENDAR
VERSION:2.0
PRODID:SchoolNow
CALSCALE:GREGORIAN
BEGIN:VEVENT
UID:707d9c4a-5ffc-11eb-8b6e-0e29c356e075
DTSTAMP:20210128T142743Z
SUMMARY:After-school club (Groundhog Day - movie/trivia/make-your-own pizza
 )
URL;VALUE=URI:https://www.hunterdonprep.org/calendar/2530980/after-school-c
 lub-groundhog-day
DTSTART:20210204T193000Z
DTEND:20210204T213000Z
END:VEVENT
END:VCALENDAR
