BEGIN:VCALENDAR
VERSION:2.0
PRODID:SchoolNow
CALSCALE:GREGORIAN
BEGIN:VEVENT
UID:de444f66-568e-11eb-82f0-0afbb326b10d
DTSTAMP:20210114T173648Z
SUMMARY:School closed 2/12 and 2/15 for President's Day holiday
URL;VALUE=URI:https://www.hunterdonprep.org/calendar/2525475/school-closed-
 2-12-and-2-15-for-presidents-day-holiday
DTSTART;VALUE=DATE:20210215
DTEND;VALUE=DATE:20210216
END:VEVENT
END:VCALENDAR
