BEGIN:VCALENDAR
VERSION:2.0
PRODID:SchoolNow
CALSCALE:GREGORIAN
BEGIN:VEVENT
UID:bd5f3144-568e-11eb-8771-0afbb326b10d
DTSTAMP:20210114T173443Z
SUMMARY:School closed 2/12 and 2/15 for President's Day weekend
URL;VALUE=URI:https://www.hunterdonprep.org/calendar/2525474/school-closed-
 for-presidents-day-weekend
DTSTART;VALUE=DATE:20210212
DTEND;VALUE=DATE:20210213
END:VEVENT
END:VCALENDAR
